BEGIN:VCALENDAR
VERSION:2.0
PRODID:-//Aedo Studio - ECPv5.9.2//NONSGML v1.0//EN
CALSCALE:GREGORIAN
METHOD:PUBLISH
X-WR-CALNAME:Aedo Studio
X-ORIGINAL-URL:https://www.aedostudio.it
X-WR-CALDESC:Eventi per Aedo Studio
BEGIN:VTIMEZONE
TZID:Europe/Rome
BEGIN:DAYLIGHT
TZOFFSETFROM:+0100
TZOFFSETTO:+0200
TZNAME:CEST
DTSTART:20130331T010000
END:DAYLIGHT
BEGIN:STANDARD
TZOFFSETFROM:+0200
TZOFFSETTO:+0100
TZNAME:CET
DTSTART:20131027T010000
END:STANDARD
END:VTIMEZONE
BEGIN:VEVENT
DTSTART;TZID=Europe/Rome:20130610T080000
DTEND;TZID=Europe/Rome:20130906T080000
DTSTAMP:20260420T040009
CREATED:20170516T182222Z
LAST-MODIFIED:20170731T144523Z
UID:14333-1370851200-1378454400@www.aedostudio.it
SUMMARY:Campo Estivo 2013
DESCRIPTION:Campi Estivi Aedo Studio 2013 \n  \nScopri di più>> \nShare on: WhatsApp
URL:https://www.aedostudio.it/evento/campo-estivo-2013/
LOCATION:Sede Aedo\, Aedo Studio\, Gallinaro\, FR\, 03040\, Italia
CATEGORIES:Animazione
ATTACH;FMTTYPE=image/jpeg:https://www.aedostudio.it/wp-content/uploads/2017/05/2013-locandina-CAMPI-ESTIVI-acquapark.jpg
END:VEVENT
END:VCALENDAR