BEGIN:VCALENDAR
VERSION:2.0
PRODID:-//Aedo Studio - ECPv5.9.2//NONSGML v1.0//EN
CALSCALE:GREGORIAN
METHOD:PUBLISH
X-WR-CALNAME:Aedo Studio
X-ORIGINAL-URL:https://www.aedostudio.it
X-WR-CALDESC:Eventi per Aedo Studio
BEGIN:VTIMEZONE
TZID:Europe/Rome
BEGIN:DAYLIGHT
TZOFFSETFROM:+0100
TZOFFSETTO:+0200
TZNAME:CEST
DTSTART:20130331T010000
END:DAYLIGHT
BEGIN:STANDARD
TZOFFSETFROM:+0200
TZOFFSETTO:+0100
TZNAME:CET
DTSTART:20131027T010000
END:STANDARD
END:VTIMEZONE
BEGIN:VEVENT
DTSTART;VALUE=DATE:20130813
DTEND;VALUE=DATE:20130814
DTSTAMP:20260423T113557
CREATED:20170602T180509Z
LAST-MODIFIED:20170731T144321Z
UID:14761-1376352000-1376438399@www.aedostudio.it
SUMMARY:Festa del vino a Gallinaro
DESCRIPTION:Ci saranno i figuranti dell’Aedo Studio a fare da cornice a questa edizione della Festa del Vino di Gallinaro. \n  \n\n			\n				\n			\n			\n				\n			\n			\n				\n			\n			\n				\n			\n			\n				\n			\n			\n				\n			\n			\n				\n			\n			\n				\n			\n			\n				\n			\n			\n				\n			\n			\n				\n			\n			\n		\n\nShare on: WhatsApp
URL:https://www.aedostudio.it/evento/festa-del-vino-a-gallinaro/
LOCATION:Centro Storico di Gallinaro\, via Maggiore Galliano\, Gallinaro\, FR\, 03040\, Italia
CATEGORIES:Rievocazioni
ATTACH;FMTTYPE=image/jpeg:https://www.aedostudio.it/wp-content/uploads/2017/06/2013-festadelvinogallinaro.jpg
END:VEVENT
END:VCALENDAR