BEGIN:VCALENDAR
VERSION:2.0
PRODID:-//Aedo Studio - ECPv5.9.2//NONSGML v1.0//EN
CALSCALE:GREGORIAN
METHOD:PUBLISH
X-WR-CALNAME:Aedo Studio
X-ORIGINAL-URL:https://www.aedostudio.it
X-WR-CALDESC:Eventi per Aedo Studio
BEGIN:VTIMEZONE
TZID:Europe/Rome
BEGIN:DAYLIGHT
TZOFFSETFROM:+0100
TZOFFSETTO:+0200
TZNAME:CEST
DTSTART:20130331T010000
END:DAYLIGHT
BEGIN:STANDARD
TZOFFSETFROM:+0200
TZOFFSETTO:+0100
TZNAME:CET
DTSTART:20131027T010000
END:STANDARD
END:VTIMEZONE
BEGIN:VEVENT
DTSTART;VALUE=DATE:20130630
DTEND;VALUE=DATE:20130701
DTSTAMP:20260420T053501
CREATED:20170602T185615Z
LAST-MODIFIED:20170731T144508Z
UID:14776-1372550400-1372636799@www.aedostudio.it
SUMMARY:Il Peschio che non ti aspetti
DESCRIPTION:Un ricco programma per “Il Peschio che non ti aspetti”\, alla scoperta del gusto\, della storia e dei mestieri della Valle di Comino. \n  \n\n			\n				\n			\n			\n				\n			\n			\n				\n			\n			\n				\n			\n			\n				\n			\n			\n				\n			\n			\n				\n			\n			\n				\n			\n			\n				\n			\n			\n				\n			\n			\n				\n			\n			\n				\n			\n			\n				\n			\n			\n				\n			\n			\n				\n			\n			\n				\n			\n		\n\nShare on: WhatsApp
URL:https://www.aedostudio.it/evento/il-peschio-che-non-ti-aspetti/
LOCATION:Alvito\, via Santissima Trinità\, 12\, Alvito\, FR\, 03041\, Italia
CATEGORIES:Rievocazioni
ATTACH;FMTTYPE=image/jpeg:https://www.aedostudio.it/wp-content/uploads/2017/06/2013-peschio-e1496427391548.jpg
END:VEVENT
END:VCALENDAR